BEGIN:VCALENDAR
VERSION:2.0
PRODID:-//FRC Church - ECPv5.1.4//NONSGML v1.0//EN
CALSCALE:GREGORIAN
METHOD:PUBLISH
X-WR-CALNAME:FRC Church
X-ORIGINAL-URL:http://frcfremont.org/church
X-WR-CALDESC:Events for FRC Church
BEGIN:VTIMEZONE
TZID:America/New_York
BEGIN:DAYLIGHT
TZOFFSETFROM:-0500
TZOFFSETTO:-0400
TZNAME:EDT
DTSTART:20210314T070000
END:DAYLIGHT
BEGIN:STANDARD
TZOFFSETFROM:-0400
TZOFFSETTO:-0500
TZNAME:EST
DTSTART:20211107T060000
END:STANDARD
END:VTIMEZONE
BEGIN:VEVENT
DTSTART;TZID=America/New_York:20210426T183000
DTEND;TZID=America/New_York:20210426T200000
DTSTAMP:20260421T032245
CREATED:20210414T160655Z
LAST-MODIFIED:20210414T160655Z
UID:25117-1619461800-1619467200@frcfremont.org
SUMMARY:Women's Bible Study
DESCRIPTION:Women’s Bible study based on the book “Anxious for Nothing – Finding Calm in a Chaotic World” by Max Lucado. The Bible study will be 5 weeks long from Monday\, April 26 until Monday May 24. You must be signed up to attend! \n
URL:http://frcfremont.org/church/event/womens-bible-study-4/2021-04-26/
LOCATION:FRC\, 348 East Main St.\, Fremont\, MI\, 49412
CATEGORIES:Community,Fellowship
END:VEVENT
END:VCALENDAR