BEGIN:VCALENDAR
VERSION:2.0
PRODID:-//FRC Church - ECPv5.1.4//NONSGML v1.0//EN
CALSCALE:GREGORIAN
METHOD:PUBLISH
X-WR-CALNAME:FRC Church
X-ORIGINAL-URL:http://frcfremont.org/church
X-WR-CALDESC:Events for FRC Church
BEGIN:VTIMEZONE
TZID:America/New_York
BEGIN:DAYLIGHT
TZOFFSETFROM:-0500
TZOFFSETTO:-0400
TZNAME:EDT
DTSTART:20210314T070000
END:DAYLIGHT
BEGIN:STANDARD
TZOFFSETFROM:-0400
TZOFFSETTO:-0500
TZNAME:EST
DTSTART:20211107T060000
END:STANDARD
END:VTIMEZONE
BEGIN:VEVENT
DTSTART;TZID=America/New_York:20210515T180000
DTEND;TZID=America/New_York:20210515T210000
DTSTAMP:20260421T031305
CREATED:20210414T161449Z
LAST-MODIFIED:20210414T161604Z
UID:25124-1621101600-1621112400@frcfremont.org
SUMMARY:Welcome Back Dinner Party
DESCRIPTION:A “Welcome Back” dinner and games date night for couples under age 45 – great dinner\, fun with FRC friends\, no cost\, and child care will be provided. Saturday\, May 15\, 6-9PM\, hosted by the Serve Team. Space is limited\, so RSVP to the office ASAP! You must be signed up to attend! \n
URL:http://frcfremont.org/church/event/welcome-back-dinner-party/
LOCATION:FRC\, 348 East Main St.\, Fremont\, MI\, 49412
CATEGORIES:Community,Fellowship
ATTACH;FMTTYPE=image/png:http://frcfremont.org/church/wp-content/uploads/2021/04/WelcomeBack-1.png
END:VEVENT
END:VCALENDAR