BEGIN:VCALENDAR
VERSION:2.0
PRODID:-//FRC Church - ECPv5.1.4//NONSGML v1.0//EN
CALSCALE:GREGORIAN
METHOD:PUBLISH
X-WR-CALNAME:FRC Church
X-ORIGINAL-URL:http://frcfremont.org/church
X-WR-CALDESC:Events for FRC Church
BEGIN:VTIMEZONE
TZID:America/New_York
BEGIN:DAYLIGHT
TZOFFSETFROM:-0500
TZOFFSETTO:-0400
TZNAME:EDT
DTSTART:20220313T070000
END:DAYLIGHT
BEGIN:STANDARD
TZOFFSETFROM:-0400
TZOFFSETTO:-0500
TZNAME:EST
DTSTART:20221106T060000
END:STANDARD
END:VTIMEZONE
BEGIN:VEVENT
DTSTART;TZID=America/New_York:20221123T190000
DTEND;TZID=America/New_York:20221123T200000
DTSTAMP:20260419T231517
CREATED:20221102T173422Z
LAST-MODIFIED:20221104T173145Z
UID:29095-1669230000-1669233600@frcfremont.org
SUMMARY:Thanksgiving Service
DESCRIPTION:Please join us for a joy-filled Thanksgiving Service on Wednesday\, November 23 at 7 pm! We will be led by the Youth Praise Team in a family-friendly\, dynamic time of thanking God for His abundance of blessings. We will focus on Psalm 148 as we praise the Lord for all that He has created\, from the splendor of the heavens to everything and everyone here on Earth. Come ready to share your own personal short stories of thankfulness to God for His many blessings! We will have an open mic time for men\, women\, and children to share their stories of thankfulness and the goodness of God. \nIt isn’t Thanksgiving until we have worship! Bring your friends\, neighbors\, and the whole family! Hope to see you there! \n(This event will be livestreamed on our YouTube channel and Facebook Live. Nursery services will be unavailable.) \n
URL:http://frcfremont.org/church/event/thanksgiving-service-4/
LOCATION:FRC\, 348 East Main St.\, Fremont\, MI\, 49412
CATEGORIES:Community,Fellowship
ATTACH;FMTTYPE=image/png:http://frcfremont.org/church/wp-content/uploads/2022/11/Thanksgiving-2022.png
END:VEVENT
END:VCALENDAR