BEGIN:VCALENDAR
VERSION:2.0
PRODID:-//FRC Church - ECPv5.1.4//NONSGML v1.0//EN
CALSCALE:GREGORIAN
METHOD:PUBLISH
X-WR-CALNAME:FRC Church
X-ORIGINAL-URL:http://frcfremont.org/church
X-WR-CALDESC:Events for FRC Church
BEGIN:VTIMEZONE
TZID:America/New_York
BEGIN:DAYLIGHT
TZOFFSETFROM:-0500
TZOFFSETTO:-0400
TZNAME:EDT
DTSTART:20220313T070000
END:DAYLIGHT
BEGIN:STANDARD
TZOFFSETFROM:-0400
TZOFFSETTO:-0500
TZNAME:EST
DTSTART:20221106T060000
END:STANDARD
END:VTIMEZONE
BEGIN:VEVENT
DTSTART;TZID=America/New_York:20220821T143000
DTEND;TZID=America/New_York:20220821T213000
DTSTAMP:20260420T044748
CREATED:20220607T183805Z
LAST-MODIFIED:20220607T183805Z
UID:28518-1661092200-1661117400@frcfremont.org
SUMMARY:RISE Youth Group End-Of-Year Pool Party
DESCRIPTION:Join us for our end-of-year annual pool party! Contact Luke for more info. \n
URL:http://frcfremont.org/church/event/rise-youth-group-end-of-year-pool-party/
LOCATION:FRC\, 348 East Main St.\, Fremont\, MI\, 49412
CATEGORIES:Community,Fellowship,Rise
ATTACH;FMTTYPE=image/png:http://frcfremont.org/church/wp-content/uploads/2021/06/download2.png
END:VEVENT
END:VCALENDAR