BEGIN:VCALENDAR
VERSION:2.0
PRODID:-//FRC Church - ECPv5.1.4//NONSGML v1.0//EN
CALSCALE:GREGORIAN
METHOD:PUBLISH
X-WR-CALNAME:FRC Church
X-ORIGINAL-URL:http://frcfremont.org/church
X-WR-CALDESC:Events for FRC Church
BEGIN:VTIMEZONE
TZID:America/New_York
BEGIN:DAYLIGHT
TZOFFSETFROM:-0500
TZOFFSETTO:-0400
TZNAME:EDT
DTSTART:20210314T070000
END:DAYLIGHT
BEGIN:STANDARD
TZOFFSETFROM:-0400
TZOFFSETTO:-0500
TZNAME:EST
DTSTART:20211107T060000
END:STANDARD
END:VTIMEZONE
BEGIN:VEVENT
DTSTART;TZID=America/New_York:20211008T140000
DTEND;TZID=America/New_York:20211009T170000
DTSTAMP:20260421T180607
CREATED:20210902T152753Z
LAST-MODIFIED:20210908T173716Z
UID:26967-1633701600-1633798800@frcfremont.org
SUMMARY:Revive 2021 Livestream - With Nancy DeMoss Wolgemuth
DESCRIPTION:Join us for a two-day livestreaming virtual event for the Revive 2021 women’s spiritual conference and retreat! We will be broadcasting this event from our auditorium on Friday Oct 8th from 2 pm – 9 pm\, and on Saturday Oct 9th from 9 am to 5 pm. \nThe theme for the event is “Grounded: Standing Firm in a Shaking World.” For more info about the conference\, and to see the key note speakers (includes Nancy DeMoss Wolgemuth) and schedule\, please visit Revive 2021 . \nDrop in and visit to view key speakers\, or stay for the whole event! For more info or to sign up\, please contact the church office. \n
URL:http://frcfremont.org/church/event/revive-2021-livestream-with-nancy-demoss-wolgemuth/
LOCATION:FRC\, 348 East Main St.\, Fremont\, MI\, 49412
ATTACH;FMTTYPE=image/png:http://frcfremont.org/church/wp-content/uploads/2021/09/Revive21-tree-3-2.png
END:VEVENT
END:VCALENDAR