BEGIN:VCALENDAR
VERSION:2.0
PRODID:-//FRC Church - ECPv5.1.4//NONSGML v1.0//EN
CALSCALE:GREGORIAN
METHOD:PUBLISH
X-WR-CALNAME:FRC Church
X-ORIGINAL-URL:http://frcfremont.org/church
X-WR-CALDESC:Events for FRC Church
BEGIN:VTIMEZONE
TZID:America/New_York
BEGIN:DAYLIGHT
TZOFFSETFROM:-0500
TZOFFSETTO:-0400
TZNAME:EDT
DTSTART:20210314T070000
END:DAYLIGHT
BEGIN:STANDARD
TZOFFSETFROM:-0400
TZOFFSETTO:-0500
TZNAME:EST
DTSTART:20211107T060000
END:STANDARD
END:VTIMEZONE
BEGIN:VEVENT
DTSTART;TZID=America/New_York:20211117T170000
DTEND;TZID=America/New_York:20211117T193000
DTSTAMP:20260421T070527
CREATED:20211028T183115Z
LAST-MODIFIED:20211103T163900Z
UID:27212-1637168400-1637177400@frcfremont.org
SUMMARY:Rain Gutter Regatta & Soup Cook-Off Family Dinner
DESCRIPTION:GEMS will be hosting the annual Rain Gutter Regatta on November 17 starting at 6:30 pm! This event will pit boys vs. girls (Cadets vs. GEMS) as they float their custom-made boats to hopeful victory! The GEMS program will also be having our first annual Soup Cook-Off on this evening (starting at 5:30 pm)\, and they invite all of the congregation to bring a crockpot of their best homemade soup to the dinner to enter into the contest. May the best chef win! \n
URL:http://frcfremont.org/church/event/rain-gutter-regatta-soup-cook-off-family-dinner/
LOCATION:FRC\, 348 East Main St.\, Fremont\, MI\, 49412
CATEGORIES:Cadets,Community,Fellowship,GEMS
ATTACH;FMTTYPE=image/jpeg:http://frcfremont.org/church/wp-content/uploads/2021/10/unnamed.jpg
END:VEVENT
END:VCALENDAR