BEGIN:VCALENDAR
VERSION:2.0
PRODID:-//FRC Church - ECPv5.1.4//NONSGML v1.0//EN
CALSCALE:GREGORIAN
METHOD:PUBLISH
X-WR-CALNAME:FRC Church
X-ORIGINAL-URL:http://frcfremont.org/church
X-WR-CALDESC:Events for FRC Church
BEGIN:VTIMEZONE
TZID:America/New_York
BEGIN:DAYLIGHT
TZOFFSETFROM:-0500
TZOFFSETTO:-0400
TZNAME:EDT
DTSTART:20210314T070000
END:DAYLIGHT
BEGIN:STANDARD
TZOFFSETFROM:-0400
TZOFFSETTO:-0500
TZNAME:EST
DTSTART:20211107T060000
END:STANDARD
END:VTIMEZONE
BEGIN:VEVENT
DTSTART;TZID=America/New_York:20210826T120000
DTEND;TZID=America/New_York:20210826T140000
DTSTAMP:20260422T053847
CREATED:20210812T174956Z
LAST-MODIFIED:20210812T174956Z
UID:26751-1629979200-1629986400@frcfremont.org
SUMMARY:Prime Timers Lunch
DESCRIPTION:Prime Timers will be having a lunch at noon on Thursday\, August 26 at Barb & Stan’s home. The menu will be sweet corn (on the cob)\, hamburgers\, coleslaw\, and dessert\, along with coffee and water. Please sign up in the Gathering Centering or by calling the church office so we can prepare accordingly! \n
URL:http://frcfremont.org/church/event/prime-timers-lunch-3/
LOCATION:FRC\, 348 East Main St.\, Fremont\, MI\, 49412
CATEGORIES:Community,Fellowship
ATTACH;FMTTYPE=image/png:http://frcfremont.org/church/wp-content/uploads/2021/04/Prime-Timers.png
END:VEVENT
END:VCALENDAR