BEGIN:VCALENDAR
VERSION:2.0
PRODID:-//FRC Church - ECPv5.1.4//NONSGML v1.0//EN
CALSCALE:GREGORIAN
METHOD:PUBLISH
X-WR-CALNAME:FRC Church
X-ORIGINAL-URL:http://frcfremont.org/church
X-WR-CALDESC:Events for FRC Church
BEGIN:VTIMEZONE
TZID:America/New_York
BEGIN:DAYLIGHT
TZOFFSETFROM:-0500
TZOFFSETTO:-0400
TZNAME:EDT
DTSTART:20210314T070000
END:DAYLIGHT
BEGIN:STANDARD
TZOFFSETFROM:-0400
TZOFFSETTO:-0500
TZNAME:EST
DTSTART:20211107T060000
END:STANDARD
END:VTIMEZONE
BEGIN:VEVENT
DTSTART;TZID=America/New_York:20210729T120000
DTEND;TZID=America/New_York:20210729T140000
DTSTAMP:20260421T201513
CREATED:20210714T184809Z
LAST-MODIFIED:20210714T184809Z
UID:26689-1627560000-1627567200@frcfremont.org
SUMMARY:Prime Timers Lunch
DESCRIPTION:Prime Timers will be having a lunch at noon on Thursday\, July 29th at Barb & Stan’s home. The menu will be pulled pork\, macaroni salad\, veggies\, and homemade pies\, along with coffee and water. Please sign up in the Gathering Centering or by calling the church office so we can prepare accordingly! \n
URL:http://frcfremont.org/church/event/prime-timers-lunch-2/
LOCATION:FRC\, 348 East Main St.\, Fremont\, MI\, 49412
CATEGORIES:Community,Fellowship
ATTACH;FMTTYPE=image/png:http://frcfremont.org/church/wp-content/uploads/2021/04/Prime-Timers.png
END:VEVENT
END:VCALENDAR