BEGIN:VCALENDAR
VERSION:2.0
PRODID:-//FRC Church - ECPv5.1.4//NONSGML v1.0//EN
CALSCALE:GREGORIAN
METHOD:PUBLISH
X-WR-CALNAME:FRC Church
X-ORIGINAL-URL:http://frcfremont.org/church
X-WR-CALDESC:Events for FRC Church
BEGIN:VTIMEZONE
TZID:America/New_York
BEGIN:DAYLIGHT
TZOFFSETFROM:-0500
TZOFFSETTO:-0400
TZNAME:EDT
DTSTART:20210314T070000
END:DAYLIGHT
BEGIN:STANDARD
TZOFFSETFROM:-0400
TZOFFSETTO:-0500
TZNAME:EST
DTSTART:20211107T060000
END:STANDARD
END:VTIMEZONE
BEGIN:VEVENT
DTSTART;TZID=America/New_York:20210520T120000
DTEND;TZID=America/New_York:20210520T130000
DTSTAMP:20260421T050519
CREATED:20210505T163546Z
LAST-MODIFIED:20210519T180731Z
UID:25207-1621512000-1621515600@frcfremont.org
SUMMARY:Prime Timers Lunch @ 12 noon
DESCRIPTION:Prime Timers lunch @ noon at Barb & Stan’s house. Menu will be fish fry\, potato salad\, baked beans and dessert. Sign up in the Gathering Center or by calling the church office. You must sign up to attend! \n
URL:http://frcfremont.org/church/event/prime-timers-lunch-12-noon-2/
LOCATION:FRC\, 348 East Main St.\, Fremont\, MI\, 49412
CATEGORIES:Community,Fellowship
ATTACH;FMTTYPE=image/png:http://frcfremont.org/church/wp-content/uploads/2021/04/Prime-Timers.png
END:VEVENT
END:VCALENDAR