BEGIN:VCALENDAR
VERSION:2.0
PRODID:-//FRC Church - ECPv5.1.4//NONSGML v1.0//EN
CALSCALE:GREGORIAN
METHOD:PUBLISH
X-WR-CALNAME:FRC Church
X-ORIGINAL-URL:http://frcfremont.org/church
X-WR-CALDESC:Events for FRC Church
BEGIN:VTIMEZONE
TZID:America/New_York
BEGIN:DAYLIGHT
TZOFFSETFROM:-0500
TZOFFSETTO:-0400
TZNAME:EDT
DTSTART:20180311T070000
END:DAYLIGHT
BEGIN:STANDARD
TZOFFSETFROM:-0400
TZOFFSETTO:-0500
TZNAME:EST
DTSTART:20181104T060000
END:STANDARD
END:VTIMEZONE
BEGIN:VEVENT
DTSTART;TZID=America/New_York:20181113T190000
DTEND;TZID=America/New_York:20181113T210000
DTSTAMP:20260420T082614
CREATED:20181030T173250Z
LAST-MODIFIED:20181030T173250Z
UID:10471-1542135600-1542142800@frcfremont.org
SUMMARY:Ministry Team Meetings
DESCRIPTION:All members who serve on a ministry team meet at 7pm. \n
URL:http://frcfremont.org/church/event/ministry-team-meetings-2/
LOCATION:The Shack\, 2263 W 14th St\,\, White cloud\, 49349
CATEGORIES:Community,Fellowship,Leadership Meetings
GEO:43.466186;-85.9370579
X-APPLE-STRUCTURED-LOCATION;VALUE=URI;X-ADDRESS=The Shack 2263 W 14th St White cloud 49349;X-APPLE-RADIUS=500;X-TITLE=2263 W 14th St\,:geo:-85.9370579,43.466186
END:VEVENT
END:VCALENDAR