BEGIN:VCALENDAR
VERSION:2.0
PRODID:-//FRC Church - ECPv5.1.4//NONSGML v1.0//EN
CALSCALE:GREGORIAN
METHOD:PUBLISH
X-WR-CALNAME:FRC Church
X-ORIGINAL-URL:http://frcfremont.org/church
X-WR-CALDESC:Events for FRC Church
BEGIN:VTIMEZONE
TZID:America/New_York
BEGIN:DAYLIGHT
TZOFFSETFROM:-0500
TZOFFSETTO:-0400
TZNAME:EDT
DTSTART:20220313T070000
END:DAYLIGHT
BEGIN:STANDARD
TZOFFSETFROM:-0400
TZOFFSETTO:-0500
TZNAME:EST
DTSTART:20221106T060000
END:STANDARD
END:VTIMEZONE
BEGIN:VEVENT
DTSTART;TZID=America/New_York:20220625T083000
DTEND;TZID=America/New_York:20220625T120000
DTSTAMP:20260420T090813
CREATED:20220610T172850Z
LAST-MODIFIED:20220610T172850Z
UID:28530-1656145800-1656158400@frcfremont.org
SUMMARY:Kids' Fishing Outing
DESCRIPTION:Kids’ Fishing Outing – Who: All kids between the ages of 3 years old – 5th grade are welcome. Bring a fishing pole if you can. Must bring a life jacket! When & Where: Saturday\, June 25:  Meet to drop kids off at the church at 8:30 am. Children will be transported from there to area lakes for fishing fun until noon! (Transportation will be provided via helpers.) They will return for lunch at noon (address for lunch available upon request). Children will need to be picked up by 1 pm. Note: We are looking for at least 6 helpers to help the kids fish and for transportation! Fishing will be either from shore\, dock\, or boat depending on location. Sign-up sheet for both kids and helpers is at the Welcome Center! \n
URL:http://frcfremont.org/church/event/kids-fishing-outing/
LOCATION:FRC\, 348 East Main St.\, Fremont\, MI\, 49412
CATEGORIES:Community,Fellowship
ATTACH;FMTTYPE=image/jpeg:http://frcfremont.org/church/wp-content/uploads/2022/06/download.jpg
END:VEVENT
END:VCALENDAR