BEGIN:VCALENDAR
VERSION:2.0
PRODID:-//FRC Church - ECPv5.1.4//NONSGML v1.0//EN
CALSCALE:GREGORIAN
METHOD:PUBLISH
X-WR-CALNAME:FRC Church
X-ORIGINAL-URL:http://frcfremont.org/church
X-WR-CALDESC:Events for FRC Church
BEGIN:VTIMEZONE
TZID:America/New_York
BEGIN:DAYLIGHT
TZOFFSETFROM:-0500
TZOFFSETTO:-0400
TZNAME:EDT
DTSTART:20210314T070000
END:DAYLIGHT
BEGIN:STANDARD
TZOFFSETFROM:-0400
TZOFFSETTO:-0500
TZNAME:EST
DTSTART:20211107T060000
END:STANDARD
END:VTIMEZONE
BEGIN:VEVENT
DTSTART;TZID=America/New_York:20210919T100000
DTEND;TZID=America/New_York:20210919T110000
DTSTAMP:20260421T210657
CREATED:20210902T154554Z
LAST-MODIFIED:20210917T154807Z
UID:26973-1632045600-1632049200@frcfremont.org
SUMMARY:Hope Is Here! Worship Message - Hope for the Broken
DESCRIPTION:If you are broken today\, hope is here! Jesus is offering forgiveness and a fresh start. On the other side\, how we interact with people around us who have made mistakes says a lot about our relationship with Jesus. The church is a place where grace is\neasily found and forgiveness quickly extended. \nJoin us for week two of our new “Hope is Here” worship series! Throughout this four-week series\, we will learn about how hope is found only in Jesus Christ. Come Back to Church and find “real” hope for your life! Listen on Facebook live\, watch on YouTube\, cruise into our drive-in venue\, or worship in-person in our spacious\, air-conditioned auditorium! \n
URL:http://frcfremont.org/church/event/hope-is-here-worship-message-week-2/
LOCATION:FRC\, 348 East Main St.\, Fremont\, MI\, 49412
CATEGORIES:Community,Fellowship
ATTACH;FMTTYPE=image/jpeg:http://frcfremont.org/church/wp-content/uploads/2015/05/HIH_Invite7-1.jpg
END:VEVENT
END:VCALENDAR