BEGIN:VCALENDAR
VERSION:2.0
PRODID:-//FRC Church - ECPv5.1.4//NONSGML v1.0//EN
CALSCALE:GREGORIAN
METHOD:PUBLISH
X-WR-CALNAME:FRC Church
X-ORIGINAL-URL:http://frcfremont.org/church
X-WR-CALDESC:Events for FRC Church
BEGIN:VTIMEZONE
TZID:America/New_York
BEGIN:DAYLIGHT
TZOFFSETFROM:-0500
TZOFFSETTO:-0400
TZNAME:EDT
DTSTART:20210314T070000
END:DAYLIGHT
BEGIN:STANDARD
TZOFFSETFROM:-0400
TZOFFSETTO:-0500
TZNAME:EST
DTSTART:20211107T060000
END:STANDARD
END:VTIMEZONE
BEGIN:VEVENT
DTSTART;TZID=America/New_York:20210912T100000
DTEND;TZID=America/New_York:20210912T110000
DTSTAMP:20260421T205933
CREATED:20210902T154441Z
LAST-MODIFIED:20210902T154441Z
UID:26971-1631440800-1631444400@frcfremont.org
SUMMARY:Hope Is Here ! Worship Message Week #1
DESCRIPTION:\n\n\nNeed hope?\n\n\n\nWho doesn’t? Looking around at the world we live in\, it can be hard to find joy or hope in the daily battles we face.\n\n\n\nBut Jesus is our hope!\n\n\nJoin us for our new “Hope is Here” worship series\, beginning on Sept 12! Throughout this four-week series\, we will learn about how hope is found only in Jesus Christ. Come to Back to Church Sunday and find “real” hope for your life! Invite your family & friends! \n\n
URL:http://frcfremont.org/church/event/hope-is-here-worship-message-week-1/
LOCATION:FRC\, 348 East Main St.\, Fremont\, MI\, 49412
CATEGORIES:Community,Fellowship
ATTACH;FMTTYPE=image/jpeg:http://frcfremont.org/church/wp-content/uploads/2015/05/HIH_Invite3.jpg
END:VEVENT
END:VCALENDAR