BEGIN:VCALENDAR
VERSION:2.0
PRODID:-//FRC Church - ECPv5.1.4//NONSGML v1.0//EN
CALSCALE:GREGORIAN
METHOD:PUBLISH
X-WR-CALNAME:FRC Church
X-ORIGINAL-URL:http://frcfremont.org/church
X-WR-CALDESC:Events for FRC Church
BEGIN:VTIMEZONE
TZID:America/New_York
BEGIN:DAYLIGHT
TZOFFSETFROM:-0500
TZOFFSETTO:-0400
TZNAME:EDT
DTSTART:20220313T070000
END:DAYLIGHT
BEGIN:STANDARD
TZOFFSETFROM:-0400
TZOFFSETTO:-0500
TZNAME:EST
DTSTART:20221106T060000
END:STANDARD
END:VTIMEZONE
BEGIN:VEVENT
DTSTART;TZID=America/New_York:20220817T110000
DTEND;TZID=America/New_York:20220817T120000
DTSTAMP:20260420T102533
CREATED:20220804T175850Z
LAST-MODIFIED:20220804T175850Z
UID:28757-1660734000-1660737600@frcfremont.org
SUMMARY:Holy Grounds
DESCRIPTION:Come for a time of coffee\, chatting\, and fellowship! We will meet in the Gathering Center at 11 am. Hope to see you there! \n
URL:http://frcfremont.org/church/event/holy-grounds/
LOCATION:FRC\, 348 East Main St.\, Fremont\, MI\, 49412
CATEGORIES:Community,Fellowship
ATTACH;FMTTYPE=image/png:http://frcfremont.org/church/wp-content/uploads/2021/03/Coffee-Time.png
END:VEVENT
END:VCALENDAR