BEGIN:VCALENDAR
VERSION:2.0
PRODID:-//FRC Church - ECPv5.1.4//NONSGML v1.0//EN
CALSCALE:GREGORIAN
METHOD:PUBLISH
X-WR-CALNAME:FRC Church
X-ORIGINAL-URL:http://frcfremont.org/church
X-WR-CALDESC:Events for FRC Church
BEGIN:VTIMEZONE
TZID:America/New_York
BEGIN:DAYLIGHT
TZOFFSETFROM:-0500
TZOFFSETTO:-0400
TZNAME:EDT
DTSTART:20210314T070000
END:DAYLIGHT
BEGIN:STANDARD
TZOFFSETFROM:-0400
TZOFFSETTO:-0500
TZNAME:EST
DTSTART:20211107T060000
END:STANDARD
END:VTIMEZONE
BEGIN:VEVENT
DTSTART;TZID=America/New_York:20210513T110000
DTEND;TZID=America/New_York:20210513T120000
DTSTAMP:20260421T030449
CREATED:20210506T184117Z
LAST-MODIFIED:20210506T184117Z
UID:25209-1620903600-1620907200@frcfremont.org
SUMMARY:Holy Grounds
DESCRIPTION:Come for coffee. Enjoy a chat. It keeps us connected!  Thursday\, May 13\, at 11 AM until 12:00 Noon in the Gathering Center. Everyone is invited! \n
URL:http://frcfremont.org/church/event/holy-grounds-5/
LOCATION:FRC\, 348 East Main St.\, Fremont\, MI\, 49412
CATEGORIES:Community,Fellowship
ATTACH;FMTTYPE=image/png:http://frcfremont.org/church/wp-content/uploads/2021/03/Coffee-Time.png
END:VEVENT
END:VCALENDAR