BEGIN:VCALENDAR
VERSION:2.0
PRODID:-//FRC Church - ECPv5.1.4//NONSGML v1.0//EN
CALSCALE:GREGORIAN
METHOD:PUBLISH
X-WR-CALNAME:FRC Church
X-ORIGINAL-URL:http://frcfremont.org/church
X-WR-CALDESC:Events for FRC Church
BEGIN:VTIMEZONE
TZID:America/New_York
BEGIN:DAYLIGHT
TZOFFSETFROM:-0500
TZOFFSETTO:-0400
TZNAME:EDT
DTSTART:20210314T070000
END:DAYLIGHT
BEGIN:STANDARD
TZOFFSETFROM:-0400
TZOFFSETTO:-0500
TZNAME:EST
DTSTART:20211107T060000
END:STANDARD
END:VTIMEZONE
BEGIN:VEVENT
DTSTART;TZID=America/New_York:20210318T110000
DTEND;TZID=America/New_York:20210318T120000
DTSTAMP:20260420T203527
CREATED:20210312T173154Z
LAST-MODIFIED:20210312T173211Z
UID:25034-1616065200-1616068800@frcfremont.org
SUMMARY:Holy Grounds
DESCRIPTION:Come for coffee and some good fellowship on Thursday\, March 18 from 11 am until noon!  We will socially distance in the Gathering Center\, and coffee will be served with precautions. \n  \n
URL:http://frcfremont.org/church/event/holy-grounds-3/
LOCATION:FRC\, 348 East Main St.\, Fremont\, MI\, 49412
CATEGORIES:Community,Fellowship
ATTACH;FMTTYPE=image/png:http://frcfremont.org/church/wp-content/uploads/2021/03/Coffee-Time.png
END:VEVENT
END:VCALENDAR