BEGIN:VCALENDAR
VERSION:2.0
PRODID:-//FRC Church - ECPv5.1.4//NONSGML v1.0//EN
CALSCALE:GREGORIAN
METHOD:PUBLISH
X-WR-CALNAME:FRC Church
X-ORIGINAL-URL:http://frcfremont.org/church
X-WR-CALDESC:Events for FRC Church
BEGIN:VTIMEZONE
TZID:America/New_York
BEGIN:DAYLIGHT
TZOFFSETFROM:-0500
TZOFFSETTO:-0400
TZNAME:EDT
DTSTART:20220313T070000
END:DAYLIGHT
BEGIN:STANDARD
TZOFFSETFROM:-0400
TZOFFSETTO:-0500
TZNAME:EST
DTSTART:20221106T060000
END:STANDARD
END:VTIMEZONE
BEGIN:VEVENT
DTSTART;TZID=America/New_York:20221005T183000
DTEND;TZID=America/New_York:20221005T200000
DTSTAMP:20260420T011819
CREATED:20220908T163349Z
LAST-MODIFIED:20220908T163349Z
UID:28856-1664994600-1665000000@frcfremont.org
SUMMARY:GEMS & Cadets
DESCRIPTION:Youth programs for kids in 1st – 8th grades that meet Wednesday evenings from 6:30 – 8:00 pm\, October through April. All children are welcome\, whether you attend this church or not! Both programs follow the Fremont public school calendar and are closed when the schools are closed. \nFor information about GEMS: \nhttp://frcfremont.org/church/about/ministries/gems-2/ \nFor information about Cadets: \nhttp://frcfremont.org/church/about/ministries/cadets-2/ \n
URL:http://frcfremont.org/church/event/gems-cadets-5/2022-10-05/
LOCATION:FRC\, 348 East Main St.\, Fremont\, MI\, 49412
CATEGORIES:Cadets,Community,Fellowship,GEMS
ATTACH;FMTTYPE=image/png:http://frcfremont.org/church/wp-content/uploads/2020/09/gemscadets.png
END:VEVENT
END:VCALENDAR