BEGIN:VCALENDAR
VERSION:2.0
PRODID:-//FRC Church - ECPv5.1.4//NONSGML v1.0//EN
CALSCALE:GREGORIAN
METHOD:PUBLISH
X-WR-CALNAME:FRC Church
X-ORIGINAL-URL:http://frcfremont.org/church
X-WR-CALDESC:Events for FRC Church
BEGIN:VTIMEZONE
TZID:America/New_York
BEGIN:DAYLIGHT
TZOFFSETFROM:-0500
TZOFFSETTO:-0400
TZNAME:EDT
DTSTART:20220313T070000
END:DAYLIGHT
BEGIN:STANDARD
TZOFFSETFROM:-0400
TZOFFSETTO:-0500
TZNAME:EST
DTSTART:20221106T060000
END:STANDARD
END:VTIMEZONE
BEGIN:VEVENT
DTSTART;TZID=America/New_York:20220325T170000
DTEND;TZID=America/New_York:20220325T200000
DTSTAMP:20260420T162200
CREATED:20220222T181703Z
LAST-MODIFIED:20220222T182209Z
UID:28314-1648227600-1648238400@frcfremont.org
SUMMARY:Free Prom Dress Giveaway Event - 5th Annual
DESCRIPTION:Our 5th Annual Free Prom Dress Giveaway Event is back! \nAnyone in need of a prom dress\, come to First Reformed Church Fremont on March 25 (5 pm to 8 pm) or March 26 (10 am to 3 pm) to choose from our HUGE variety of new and gently used donated dresses and accessories in tons of colors\, styles\, and sizes. \nThere are NO qualifications to attend this event – it is open to anyone in the community and surrounding area in need of a prom dress. \nFor more details\, see Free Prom Dress Event or contact us by phone\, email\, or messenger. \n
URL:http://frcfremont.org/church/event/free-prom-dress-giveaway-event-5th-annual/2022-03-25/
LOCATION:FRC\, 348 East Main St.\, Fremont\, MI\, 49412
ATTACH;FMTTYPE=image/png:http://frcfremont.org/church/wp-content/uploads/2022/02/FB-and-Website-Horizontal-Ad.png
END:VEVENT
END:VCALENDAR