BEGIN:VCALENDAR
VERSION:2.0
PRODID:-//FRC Church - ECPv5.1.4//NONSGML v1.0//EN
CALSCALE:GREGORIAN
METHOD:PUBLISH
X-WR-CALNAME:FRC Church
X-ORIGINAL-URL:http://frcfremont.org/church
X-WR-CALDESC:Events for FRC Church
BEGIN:VTIMEZONE
TZID:America/New_York
BEGIN:DAYLIGHT
TZOFFSETFROM:-0500
TZOFFSETTO:-0400
TZNAME:EDT
DTSTART:20210314T070000
END:DAYLIGHT
BEGIN:STANDARD
TZOFFSETFROM:-0400
TZOFFSETTO:-0500
TZNAME:EST
DTSTART:20211107T060000
END:STANDARD
END:VTIMEZONE
BEGIN:VEVENT
DTSTART;TZID=America/New_York:20210404T100000
DTEND;TZID=America/New_York:20210404T110000
DTSTAMP:20260420T184852
CREATED:20210324T173438Z
LAST-MODIFIED:20210324T173438Z
UID:25069-1617530400-1617534000@frcfremont.org
SUMMARY:Easter Worship Message
DESCRIPTION:Easter –  the most important Christian holiday of the year has finally arrived! We celebrate the resurrection of Jesus Christ! Join us for a powerful and inspirational worship service as we praise our Lord & Savior Jesus Christ who has conquered the grave and risen from the dead! \nPlease join us for the message today\, as we hear an Easter message about the power of the resurrection! Listen on Facebook live\, watch on YouTube\, cruise into our drive-in venue\, or worship in-person in our spacious\, socially-distanced auditorium! (Per governor’s executive orders\, congregants are strongly encouraged to wear face coverings during religious services.) \n
URL:http://frcfremont.org/church/event/easter-worship-message/
LOCATION:FRC\, 348 East Main St.\, Fremont\, MI\, 49412
CATEGORIES:Community,Fellowship
ATTACH;FMTTYPE=image/png:http://frcfremont.org/church/wp-content/uploads/2021/03/Easter.png
END:VEVENT
END:VCALENDAR