BEGIN:VCALENDAR
VERSION:2.0
PRODID:-//FRC Church - ECPv5.1.4//NONSGML v1.0//EN
CALSCALE:GREGORIAN
METHOD:PUBLISH
X-WR-CALNAME:FRC Church
X-ORIGINAL-URL:http://frcfremont.org/church
X-WR-CALDESC:Events for FRC Church
BEGIN:VTIMEZONE
TZID:America/New_York
BEGIN:DAYLIGHT
TZOFFSETFROM:-0500
TZOFFSETTO:-0400
TZNAME:EDT
DTSTART:20220313T070000
END:DAYLIGHT
BEGIN:STANDARD
TZOFFSETFROM:-0400
TZOFFSETTO:-0500
TZNAME:EST
DTSTART:20221106T060000
END:STANDARD
END:VTIMEZONE
BEGIN:VEVENT
DTSTART;TZID=America/New_York:20220614T190000
DTEND;TZID=America/New_York:20220614T200000
DTSTAMP:20260420T091048
CREATED:20220429T163346Z
LAST-MODIFIED:20220429T163346Z
UID:28447-1655233200-1655236800@frcfremont.org
SUMMARY:Congregational Meeting
DESCRIPTION:Our yearly congregational meeting will be held here at 7 pm. All members are invited to attend to discuss important issues! \n
URL:http://frcfremont.org/church/event/congregational-meeting-3/
LOCATION:FRC\, 348 East Main St.\, Fremont\, MI\, 49412
CATEGORIES:Community,Fellowship
ATTACH;FMTTYPE=image/jpeg:http://frcfremont.org/church/wp-content/uploads/2021/05/CongMeeting.jpg
END:VEVENT
END:VCALENDAR