BEGIN:VCALENDAR
VERSION:2.0
PRODID:-//FRC Church - ECPv5.1.4//NONSGML v1.0//EN
CALSCALE:GREGORIAN
METHOD:PUBLISH
X-WR-CALNAME:FRC Church
X-ORIGINAL-URL:http://frcfremont.org/church
X-WR-CALDESC:Events for FRC Church
BEGIN:VTIMEZONE
TZID:America/New_York
BEGIN:DAYLIGHT
TZOFFSETFROM:-0500
TZOFFSETTO:-0400
TZNAME:EDT
DTSTART:20220313T070000
END:DAYLIGHT
BEGIN:STANDARD
TZOFFSETFROM:-0400
TZOFFSETTO:-0500
TZNAME:EST
DTSTART:20221106T060000
END:STANDARD
END:VTIMEZONE
BEGIN:VEVENT
DTSTART;TZID=America/New_York:20220529T100000
DTEND;TZID=America/New_York:20220529T110000
DTSTAMP:20260420T073935
CREATED:20220524T180455Z
LAST-MODIFIED:20220628T175039Z
UID:28488-1653818400-1653822000@frcfremont.org
SUMMARY:Community Worship in the Park
DESCRIPTION:On Sunday\, July 3 (Fourth of July weekend)\, our church will be participating in a combined outdoor worship at Veterans’ Park beginning at 10 am. We are looking forward to worshiping together with our brothers and sisters in Christ. Golf carts will be available for those needing assistance entering the park from their parking location. Bring lawn chairs or blankets to sit on. A Kids Korner will be available for kids ages 4-10. Communion will be served. Fellowship is encouraged following worship and will include refreshments. \nFor those unable to attend in person\, the service will be live-streamed at www.facebook.com/FirstCRCFremont. In case of inclement weather\, the service will be held at 1st Christian Reformed Church\, 721 Hillcrest Ave\, Fremont. We will notify you of alternative plans through email\, text\, and Facebook. Hope to see you there! \n
URL:http://frcfremont.org/church/event/community-worship-in-the-park/2022-05-29/
LOCATION:FRC\, 348 East Main St.\, Fremont\, MI\, 49412
CATEGORIES:Community,Fellowship
ATTACH;FMTTYPE=image/png:http://frcfremont.org/church/wp-content/uploads/2021/05/My-Post-6-copy-7.png
END:VEVENT
END:VCALENDAR