BEGIN:VCALENDAR
VERSION:2.0
PRODID:-//FRC Church - ECPv5.1.4//NONSGML v1.0//EN
CALSCALE:GREGORIAN
METHOD:PUBLISH
X-WR-CALNAME:FRC Church
X-ORIGINAL-URL:http://frcfremont.org/church
X-WR-CALDESC:Events for FRC Church
BEGIN:VTIMEZONE
TZID:America/New_York
BEGIN:DAYLIGHT
TZOFFSETFROM:-0500
TZOFFSETTO:-0400
TZNAME:EDT
DTSTART:20210314T070000
END:DAYLIGHT
BEGIN:STANDARD
TZOFFSETFROM:-0400
TZOFFSETTO:-0500
TZNAME:EST
DTSTART:20211107T060000
END:STANDARD
END:VTIMEZONE
BEGIN:VEVENT
DTSTART;TZID=America/New_York:20210530T100000
DTEND;TZID=America/New_York:20210530T110000
DTSTAMP:20260421T050929
CREATED:20210505T163256Z
LAST-MODIFIED:20210609T171739Z
UID:25204-1622368800-1622372400@frcfremont.org
SUMMARY:Community Outdoor Worship
DESCRIPTION:Join us for a Community Outdoor Worship event for the holiday weekend! We will worship jointly with Church of the Living Christ and 1st Christian Reformed Church at the Gerber Parking Lot at 10 am. \n
URL:http://frcfremont.org/church/event/community-outdoor-worship/2021-05-30/
LOCATION:FRC\, 348 East Main St.\, Fremont\, MI\, 49412
CATEGORIES:Community,Fellowship
ATTACH;FMTTYPE=image/png:http://frcfremont.org/church/wp-content/uploads/2021/05/My-Post-6-copy-7.png
END:VEVENT
END:VCALENDAR