BEGIN:VCALENDAR
VERSION:2.0
PRODID:-//FRC Church - ECPv5.1.4//NONSGML v1.0//EN
CALSCALE:GREGORIAN
METHOD:PUBLISH
X-WR-CALNAME:FRC Church
X-ORIGINAL-URL:http://frcfremont.org/church
X-WR-CALDESC:Events for FRC Church
BEGIN:VTIMEZONE
TZID:America/New_York
BEGIN:DAYLIGHT
TZOFFSETFROM:-0500
TZOFFSETTO:-0400
TZNAME:EDT
DTSTART:20210314T070000
END:DAYLIGHT
BEGIN:STANDARD
TZOFFSETFROM:-0400
TZOFFSETTO:-0500
TZNAME:EST
DTSTART:20211107T060000
END:STANDARD
END:VTIMEZONE
BEGIN:VEVENT
DTSTART;TZID=America/New_York:20210223T113000
DTEND;TZID=America/New_York:20210223T130000
DTSTAMP:20260420T140626
CREATED:20210218T174223Z
LAST-MODIFIED:20210218T174223Z
UID:24977-1614079800-1614085200@frcfremont.org
SUMMARY:COA Fremont Social Event
DESCRIPTION:COA is hosting an outdoor social event in our parking lot! Come and enjoy hot chocolate and friendly company around a warm outdoor fire starting at 11:30 A.M. If you would like a meal for this day\, call the day before (Monday) and they will have a hot meal (meatloaf & mashed potatoes/gravy) prepared for you that you can enjoy outside by the fire. Be sure to dress warm and bring a chair!  \n
URL:http://frcfremont.org/church/event/coa-fremont-social-event/
LOCATION:FRC\, 348 East Main St.\, Fremont\, MI\, 49412
CATEGORIES:Community,Fellowship
ATTACH;FMTTYPE=image/png:http://frcfremont.org/church/wp-content/uploads/2017/09/24796378_1392401484193042_2419457370689636396_n.png
END:VEVENT
END:VCALENDAR