BEGIN:VCALENDAR
VERSION:2.0
PRODID:-//FRC Church - ECPv5.1.4//NONSGML v1.0//EN
CALSCALE:GREGORIAN
METHOD:PUBLISH
X-WR-CALNAME:FRC Church
X-ORIGINAL-URL:http://frcfremont.org/church
X-WR-CALDESC:Events for FRC Church
BEGIN:VTIMEZONE
TZID:America/New_York
BEGIN:DAYLIGHT
TZOFFSETFROM:-0500
TZOFFSETTO:-0400
TZNAME:EDT
DTSTART:20220313T070000
END:DAYLIGHT
BEGIN:STANDARD
TZOFFSETFROM:-0400
TZOFFSETTO:-0500
TZNAME:EST
DTSTART:20221106T060000
END:STANDARD
END:VTIMEZONE
BEGIN:VEVENT
DTSTART;TZID=America/New_York:20221218T180000
DTEND;TZID=America/New_York:20221218T190000
DTSTAMP:20260419T150648
CREATED:20221117T162616Z
LAST-MODIFIED:20221117T162616Z
UID:29165-1671386400-1671390000@frcfremont.org
SUMMARY:Candlelight Service - December 18 @ 6:00 pm
DESCRIPTION:Join us for a joyous\, Candlelight Service starting at 6:00 pm on Sunday\, December 18 as we celebrate our Savior and Lord Jesus Christ! We will sing contemporary and classic Christmas songs together and listen to scripture readings as we delight in the real reason for the season. Bring the whole family! Hope to see you there! (Nursery services will be unavailable) \n
URL:http://frcfremont.org/church/event/candlelight-service-december-18-600-pm/
LOCATION:FRC\, 348 East Main St.\, Fremont\, MI\, 49412
CATEGORIES:Community,Fellowship
ATTACH;FMTTYPE=image/png:http://frcfremont.org/church/wp-content/uploads/2022/11/candlelight-service.png
END:VEVENT
END:VCALENDAR