BEGIN:VCALENDAR
VERSION:2.0
PRODID:-//FRC Church - ECPv5.1.4//NONSGML v1.0//EN
CALSCALE:GREGORIAN
METHOD:PUBLISH
X-WR-CALNAME:FRC Church
X-ORIGINAL-URL:http://frcfremont.org/church
X-WR-CALDESC:Events for FRC Church
BEGIN:VTIMEZONE
TZID:America/New_York
BEGIN:DAYLIGHT
TZOFFSETFROM:-0500
TZOFFSETTO:-0400
TZNAME:EDT
DTSTART:20210314T070000
END:DAYLIGHT
BEGIN:STANDARD
TZOFFSETFROM:-0400
TZOFFSETTO:-0500
TZNAME:EST
DTSTART:20211107T060000
END:STANDARD
END:VTIMEZONE
BEGIN:VEVENT
DTSTART;TZID=America/New_York:20210516T100000
DTEND;TZID=America/New_York:20210516T110000
DTSTAMP:20260421T013940
CREATED:20210414T163854Z
LAST-MODIFIED:20210414T163920Z
UID:25133-1621159200-1621162800@frcfremont.org
SUMMARY:Cadets Sunday!
DESCRIPTION:Welcome to Cadets Sunday\, where we will celebrate our Cadets boys’ ministry and showcase what the boys have been up to this year! Our theme verse is “Dive Into the Word\,” from Psalm 119:162. Celebrate with us as we reveal our entire year of ministry of leading and teaching boys about the power of Jesus Christ as our Savior! \nPlease join us for the message today\, as we celebrate our Cadets boys’ ministry! Listen on Facebook live\, watch on YouTube\, cruise into our drive-in venue\, or worship in-person in our spacious\, socially-distanced auditorium! (Per governor’s executive orders\, congregants are strongly encouraged to wear face coverings during religious services.) \n
URL:http://frcfremont.org/church/event/25133/
LOCATION:FRC\, 348 East Main St.\, Fremont\, MI\, 49412
CATEGORIES:Cadets,Community,Fellowship
ATTACH;FMTTYPE=image/jpeg:http://frcfremont.org/church/wp-content/uploads/2021/04/2021-theme-logo-sq.jpg
END:VEVENT
END:VCALENDAR